Workbook

Sheet Trades
A1: Date | B1: Symbol | C1: Direction | D1: Strategy | E1: Setup_Tag | F1: Entry_Price | G1: Stop_Price | H1: Target_Price | I1: Qty | J1: Position_Risk(₹) | K1: Brokerage | L1: Exit_Price | M1: Exit_Date | N1: Outcome | O1: P_L(₹) | P1: R_Multiple | Q1: Equity_Before(₹) | R1: Risk_%_of_Equity | S1: Emotion | T1: Mistake? | U1: Screenshot_Link | V1: Notes
O2: =IF(C2="Long", (L2-F2)*I2, IF(C2="Short", (F2-L2)*I2, 0)) - (K2 +#REF!) -> #REF! | P2: =IFERROR(O2/J2,0) -> 0 | Q2: =#REF! -> #REF! | R2: =IFERROR(J2/Q2*100,0) -> 0
O3: =IF(C3="Long", (L3-F3)*I3, IF(C3="Short", (F3-L3)*I3, 0)) - (K3 +#REF!) -> #REF! | P3: =IFERROR(O3/J3,0) -> 0 | Q3: =#REF! -> #REF! | R3: =IFERROR(J3/Q3*100,0) -> 0
O4: =IF(C4="Long", (L4-F4)*I4, IF(C4="Short", (F4-L4)*I4, 0)) - (K4 +#REF!) -> #REF! | P4: =IFERROR(O4/J4,0) -> 0 | Q4: =#REF! -> #REF! | R4: =IFERROR(J4/Q4*100,0) -> 0
O5: =IF(C5="Long", (L5-F5)*I5, IF(C5="Short", (F5-L5)*I5, 0)) - (K5 +#REF!) -> #REF! | P5: =IFERROR(O5/J5,0) -> 0 | Q5: =#REF! -> #REF! | R5: =IFERROR(J5/Q5*100,0) -> 0
O6: =IF(C6="Long", (L6-F6)*I6, IF(C6="Short", (F6-L6)*I6, 0)) - (K6 +#REF!) -> #REF! | P6: =IFERROR(O6/J6,0) -> 0 | Q6: =#REF! -> #REF! | R6: =IFERROR(J6/Q6*100,0) -> 0
O7: =IF(C7="Long", (L7-F7)*I7, IF(C7="Short", (F7-L7)*I7, 0)) - (K7 +#REF!) -> #REF! | P7: =IFERROR(O7/J7,0) -> 0 | Q7: =#REF! -> #REF! | R7: =IFERROR(J7/Q7*100,0) -> 0
O8: =IF(C8="Long", (L8-F8)*I8, IF(C8="Short", (F8-L8)*I8, 0)) - (K8 +#REF!) -> #REF! | P8: =IFERROR(O8/J8,0) -> 0 | Q8: =#REF! -> #REF! | R8: =IFERROR(J8/Q8*100,0) -> 0
O9: =IF(C9="Long", (L9-F9)*I9, IF(C9="Short", (F9-L9)*I9, 0)) - (K9 +#REF!) -> #REF! | P9: =IFERROR(O9/J9,0) -> 0 | Q9: =#REF! -> #REF! | R9: =IFERROR(J9/Q9*100,0) -> 0
O10: =IF(C10="Long", (L10-F10)*I10, IF(C10="Short", (F10-L10)*I10, 0)) - (K10 +#REF!) -> #REF! | P10: =IFERROR(O10/J10,0) -> 0 | Q10: =#REF! -> #REF! | R10: =IFERROR(J10/Q10*100,0) -> 0
O11: =IF(C11="Long", (L11-F11)*I11, IF(C11="Short", (F11-L11)*I11, 0)) - (K11 +#REF!) -> #REF! | P11: =IFERROR(O11/J11,0) -> 0 | Q11: =#REF! -> #REF! | R11: =IFERROR(J11/Q11*100,0) -> 0

Sheet Dashboard
A1: KPI | B1: Value | C1: Formula/Notes
A2: Total Trades | B2: 0 | C2: Counts filled trade dates
A3: Win Rate | B3: 0 | C3: Wins as P/L > 0
A4: Average R | B4: 0 | C4: Average R multiple (ignores blanks)
A5: Expectancy (R) | B5: =IFERROR(AVERAGE(Trades!P2:P1000),0) -> 0 | C5: Mean R per trade
A6: Total P/L (₹)
A7: Best Trade (R) | B7: =IFERROR(MAX(Trades!P2:P1000),0) -> 0
A8: Worst Trade (R) | B8: =IFERROR(MIN(Trades!P2:P1000),0) -> 0
A10: By Strategy | B10: Count | C10: Avg R
A11: Strategy | B11: Count | C11: Avg R
A12: Breakout | B12: =COUNTIF(Trades!D2:D1000,"Breakout") -> 0 | C12: =IFERROR(AVERAGEIF(Trades!D2:D1000,"Breakout",Trades!P2:P1000),0) -> 0
A13: Pullback | B13: =COUNTIF(Trades!D2:D1000,"Pullback") -> 0 | C13: =IFERROR(AVERAGEIF(Trades!D2:D1000,"Pullback",Trades!P2:P1000),0) -> 0
A14: Range | B14: =COUNTIF(Trades!D2:D1000,"Range") -> 0 | C14: =IFERROR(AVERAGEIF(Trades!D2:D1000,"Range",Trades!P2:P1000),0) -> 0
A15: MeanReversion | B15: =COUNTIF(Trades!D2:D1000,"MeanReversion") -> 0 | C15: =IFERROR(AVERAGEIF(Trades!D2:D1000,"MeanReversion",Trades!P2:P1000),0) -> 0
A16: News | B16: =COUNTIF(Trades!D2:D1000,"News") -> 0 | C16: =IFERROR(AVERAGEIF(Trades!D2:D1000,"News",Trades!P2:P1000),0) -> 0
A17: OpeningDrive | B17: =COUNTIF(Trades!D2:D1000,"OpeningDrive") -> 0 | C17: =IFERROR(AVERAGEIF(Trades!D2:D1000,"OpeningDrive",Trades!P2:P1000),0) -> 0
A18: Options-Spread | B18: =COUNTIF(Trades!D2:D1000,"Options-Spread") -> 0 | C18: =IFERROR(AVERAGEIF(Trades!D2:D1000,"Options-Spread",Trades!P2:P1000),0) -> 0
A19: Scalp | B19: =COUNTIF(Trades!D2:D1000,"Scalp") -> 0 | C19: =IFERROR(AVERAGEIF(Trades!D2:D1000,"Scalp",Trades!P2:P1000),0) -> 0
A20: Swing | B20: =COUNTIF(Trades!D2:D1000,"Swing") -> 0 | C20: =IFERROR(AVERAGEIF(Trades!D2:D1000,"Swing",Trades!P2:P1000),0) -> 0

Sheet Weekly_Review
A1: Week_Start_Date | B1: #Trades | C1: WinRate | D1: Total_R | E1: Total_PL(₹) | F1: Key_Lessons | G1: Rules_to_Fix

Sheet Rules
A1: My Trading Rules
A2: • take trade after trend confirmation do not enter ealry
A3: • start with 1 lot
A4: • define risk of 750 Rs
A5: • Try to book minimum 1:2 and maximum is 1:4
A6: •do not look profit repetadly just want chart and premium moment
A7: • No overtrading: if SL hit no trade for the day
A8: • Review journal at end of day and once weekly; update Rules_to_Fix.
